BEGIN:VCALENDAR
VERSION:2.0
PRODID:-//wp-events-plugin.com//6.6.4.4//EN
TZID:Europe/Madrid
X-WR-TIMEZONE:Europe/Madrid
BEGIN:VEVENT
UID:22@colegioenfermerialeon.com
DTSTART;TZID=Europe/Madrid:20251209T170000
DTEND;TZID=Europe/Madrid:20251209T170000
DTSTAMP:20251127T091103Z
URL:https://colegioenfermerialeon.com/events/webinar-vitamina-d-suplementa
 cion/
SUMMARY:WEBINAR 2 — ALIMENTACIÓN SALUDABLE: DÉFICIT DE VITAMINA D Y SUP
 LEMENTACIÓN
DESCRIPTION:Un webinar impartido por la nutricionista Andrea Sorinas para c
 omprender la importancia de la vitamina D en el organismo. Durante la sesi
 ón aprenderás a identificar un déficit\, sus consecuencias y las mejore
 s pautas de suplementación y prevención basadas en evidencia científica
 .\nInscripción\nhttps://www.salusone.app/aprende/webinars/deficit-de-vita
 mina-d-y-suplementacion?Video=2214
CATEGORIES:Divulgaciones y Charlas
END:VEVENT
BEGIN:VTIMEZONE
TZID:Europe/Madrid
X-LIC-LOCATION:Europe/Madrid
BEGIN:STANDARD
DTSTART:20251026T020000
TZOFFSETFROM:+0200
TZOFFSETTO:+0100
TZNAME:CET
END:STANDARD
END:VTIMEZONE
END:VCALENDAR