BEGIN:VCALENDAR
VERSION:2.0
PRODID:-//wp-events-plugin.com//6.6.4.4//EN
TZID:Europe/Madrid
X-WR-TIMEZONE:Europe/Madrid
BEGIN:VEVENT
UID:21@colegioenfermerialeon.com
DTSTART;TZID=Europe/Madrid:20251202T190000
DTEND;TZID=Europe/Madrid:20251202T190000
DTSTAMP:20251127T090800Z
URL:https://colegioenfermerialeon.com/events/webinar-cardiohiit-diciembre-
 2025/
SUMMARY:WEBINAR 1 — CLASE STREAMING CARDIOHIIT (DIC 2025)
DESCRIPTION:Una sesión práctica en streaming para trabajar la resistencia
  y mejorar la condición física a través del método CardioHIIT. Una cla
 se dinámica dirigida a profesionales que deseen mantenerse activos y apre
 nder rutinas eficientes de entrenamiento guiado.\nInscripción\nhttps://ww
 w.salusone.app/aprende/webinars/clase-streaming-cardiohiit---dic-2025?Vide
 o=2213
CATEGORIES:Divulgaciones y Charlas
END:VEVENT
BEGIN:VTIMEZONE
TZID:Europe/Madrid
X-LIC-LOCATION:Europe/Madrid
BEGIN:STANDARD
DTSTART:20251026T020000
TZOFFSETFROM:+0200
TZOFFSETTO:+0100
TZNAME:CET
END:STANDARD
END:VTIMEZONE
END:VCALENDAR