BEGIN:VCALENDAR
VERSION:2.0
PRODID:-//wp-events-plugin.com//6.6.4.4//EN
TZID:Europe/Madrid
X-WR-TIMEZONE:Europe/Madrid
BEGIN:VEVENT
UID:9@colegioenfermerialeon.com
DTSTART;TZID=Europe/Madrid;VALUE=DATE:20251118
DTEND;TZID=Europe/Madrid;VALUE=DATE:20251119
DTSTAMP:20251127T093417Z
URL:https://colegioenfermerialeon.com/events/uso-prudente-antibioticos-enf
 ermeria/
SUMMARY:Día Europeo para el Uso Prudente de Antibióticos
DESCRIPTION:Este día alerta sobre la resistencia antimicrobiana y el uso i
 napropiado de antibióticos. La enfermería promueve hábitos seguros y ed
 ucación para evitar la automedicación. 
CATEGORIES:Días Internacionales
END:VEVENT
BEGIN:VTIMEZONE
TZID:Europe/Madrid
X-LIC-LOCATION:Europe/Madrid
BEGIN:STANDARD
DTSTART:20251026T020000
TZOFFSETFROM:+0200
TZOFFSETTO:+0100
TZNAME:CET
END:STANDARD
END:VTIMEZONE
END:VCALENDAR