BEGIN:VCALENDAR
VERSION:2.0
PRODID:-//wp-events-plugin.com//6.6.4.4//EN
TZID:Europe/Madrid
X-WR-TIMEZONE:Europe/Madrid
BEGIN:VEVENT
UID:4@colegioenfermerialeon.com
DTSTART;TZID=Europe/Madrid:20251211T170000
DTEND;TZID=Europe/Madrid:20251211T190000
DTSTAMP:20251121T103236Z
URL:https://colegioenfermerialeon.com/events/taller-para-matronas-leon/
SUMMARY:Taller para matronas «Casos Clínicos e Interpretación de Gráfic
 as de Método Sintotérmico»
DESCRIPTION:Se celebrará en la sede colegial de León el 11 de diciembre d
 e 2025 de 17.00 a 19.00h\n\nNo acreditado\, certificado de asistencia.\n\n
 25 plazas por orden de inscripción.\n\nSe reservarán el 50% de las plaza
 s para las inscripciones realizadas a las 10.00h y el otro 50% para las in
 scripciones realizadas a las 16.00h\n\nAcceso al formulario de inscripció
 n
CATEGORIES:Cursos y Talleres
END:VEVENT
BEGIN:VTIMEZONE
TZID:Europe/Madrid
X-LIC-LOCATION:Europe/Madrid
BEGIN:STANDARD
DTSTART:20251026T020000
TZOFFSETFROM:+0200
TZOFFSETTO:+0100
TZNAME:CET
END:STANDARD
END:VTIMEZONE
END:VCALENDAR