BEGIN:VCALENDAR
VERSION:2.0
PRODID:-//wp-events-plugin.com//6.6.4.4//EN
TZID:Europe/Madrid
X-WR-TIMEZONE:Europe/Madrid
BEGIN:VEVENT
UID:27@colegioenfermerialeon.com
DTSTART;TZID=Europe/Madrid:20260529T114500
DTEND;TZID=Europe/Madrid:20260529T181500
DTSTAMP:20260422T175206Z
URL:https://colegioenfermerialeon.com/events/ii-jornada-cientifica-de-matr
 onas-de-leon-integrando-la-atencion-en-la-salud-de-la-mujer/
SUMMARY:II Jornada Científica de Matronas de León | Integrando la atenci
 ón en la salud de la mujer
DESCRIPTION:El próximo 29 de mayo de 2026\, el Colegio Oficial de Enfermer
 ía de León será el escenario de la II Jornada Científica de Matronas d
 e Atención Primaria y Atención Especializada de León\, una cita que ref
 uerza el compromiso de la profesión con la excelencia en los cuidados y l
 a actualización continua.\nBajo el lema “Integrando la Atención Primar
 ia y Especializada en la Salud de la Mujer”\, esta jornada presencial se
  consolida como un espacio de encuentro para compartir conocimiento profes
 ional y avanzar hacia una atención más coordinada\, integral y centrada 
 en la mujer.\nLa labor de las matronas evoluciona al ritmo de la evidencia
  científica y de las necesidades sociales. En este contexto\, la jornada 
 se plantea como una oportunidad para:\n\n•Actualizar conocimientos en á
 reas clave de la práctica clínica.\n•Visibilizar el papel de la matron
 a como agente activo en la investigación y la innovación en cuidados.\n
 •Favorecer la continuidad asistencial entre los ámbitos comunitario y h
 ospitalario.\n\nEl contenido de la jornada ha sido diseñado para abordar 
 aspectos relevantes y de actualidad en la salud sexual y reproductiva:\n\n
 •Mesa de actualización clínica\, con temas como el uso del óxido nitr
 oso en el parto\, cuidados postcesárea\, cribado de violencia de género 
 en atención primaria y aplicación de guías de buenas prácticas en lact
 ancia materna.\n•Salud preconcepcional\, centrada en factores modificabl
 es como el índice de masa corporal\, el tabaquismo y la alimentación con
  enfoque antiinflamatorio.\n•Taller práctico\, dedicado a la identifica
 ción de disruptores endocrinos y su impacto en la salud maternoinfantil.\
 n•Intervención especial\, “Del silencio del cosmos al primer llanto
 ”\, una propuesta diferente que invita a la reflexión desde una perspec
 tiva humanista.\n\nInformación práctica\n\n•Fecha: 29 de mayo de 2026\
 n•Horario: de 11:45 a 18:15 horas\n•Lugar: Sede del Colegio Oficial de
  Enfermería de León (Avda. Universidad\, 7 – bajo)\n•Dirigido a: Mat
 ronas de atención primaria y especializada\, así como matronas residente
 s de la Unidad Docente de León\n\nInscripción abierta\n\nLa inscripción
  ya está disponible a través de este enlace: https://www.elrincondelinve
 stigador.com/#\n\nParticipar en esta jornada supone una oportunidad para s
 eguir fortaleciendo el papel de la matrona en el sistema sanitario y avanz
 ar en la mejora continua de los cuidados en salud de la mujer.
ATTACH;FMTTYPE=image/jpeg:https://colegioenfermerialeon.com/wp-content/upl
 oads/2026/04/cabecera_matronas_2026.jpg
CATEGORIES:Actividad Colegial,Cursos y Talleres
END:VEVENT
BEGIN:VTIMEZONE
TZID:Europe/Madrid
X-LIC-LOCATION:Europe/Madrid
BEGIN:DAYLIGHT
DTSTART:20260329T030000
TZOFFSETFROM:+0100
TZOFFSETTO:+0200
TZNAME:CEST
END:DAYLIGHT
END:VTIMEZONE
END:VCALENDAR