BEGIN:VCALENDAR
VERSION:2.0
PRODID:-//wp-events-plugin.com//6.6.4.4//EN
TZID:Europe/Madrid
X-WR-TIMEZONE:Europe/Madrid
BEGIN:VEVENT
UID:20@colegioenfermerialeon.com
DTSTART;TZID=Europe/Madrid:20251222T110000
DTEND;TZID=Europe/Madrid:20251222T140000
DTSTAMP:20251127T092059Z
URL:https://colegioenfermerialeon.com/events/fiesta-infantil-navidad-2025-
 enfermeria/
SUMMARY:FIESTA INFANTIL DE NAVIDAD 2025 EN LEÓN Y PONFERRADA
DESCRIPTION:El Colegio organiza su tradicional Fiesta Infantil de Navidad\,
  dirigida a hijos e hijas de colegiados/as de entre 4 y 12 años. Una jorn
 ada diseñada para que los más pequeños disfruten de actividades navide
 ñas en un entorno seguro y divertido. Para participar será imprescindibl
 e retirar previamente las invitaciones y entregarlas a la entrada del even
 to. Toda la información aquí\nFechas y ubicaciones\nLEÓN\n\n 	22 de dic
 iembre de 2025\n 	Horario: 11:00 a 14:00 h\n 	Lugar: DIVERNODIA (C/ Veláz
 quez\, 13)\n\nPONFERRADA\n\n 	30 de diciembre de 2025\n 	Horario: 17:00 a 
 20:30 h\n 	Lugar: LEK (Av. Montearenas\, 39)\n
CATEGORIES:Actividad Colegial
END:VEVENT
BEGIN:VTIMEZONE
TZID:Europe/Madrid
X-LIC-LOCATION:Europe/Madrid
BEGIN:STANDARD
DTSTART:20251026T020000
TZOFFSETFROM:+0200
TZOFFSETTO:+0100
TZNAME:CET
END:STANDARD
END:VTIMEZONE
END:VCALENDAR