BEGIN:VCALENDAR
VERSION:2.0
PRODID:-//wp-events-plugin.com//6.6.4.4//EN
TZID:Europe/Madrid
X-WR-TIMEZONE:Europe/Madrid
BEGIN:VEVENT
UID:24@colegioenfermerialeon.com
DTSTART;TZID=Europe/Madrid;VALUE=DATE:20260110
DTEND;TZID=Europe/Madrid;VALUE=DATE:20260111
DTSTAMP:20251127T092919Z
URL:https://colegioenfermerialeon.com/events/envio-abstracts-jornada-enfer
 meria-2026/
SUMMARY:Plazos de Envío de Abstracts — II Jornada Conceptos de Enfermer
 ía
DESCRIPTION:El Colegio Oficial de Enfermería de León informa a los partic
 ipantes de la II Jornada Conceptos de Enfermería de los plazos oficiales 
 para el envío de abstracts y trabajos completos. La presentación se real
 izará exclusivamente mediante el formulario disponible en la web del Cole
 gio. Es fundamental respetar las fechas establecidas para garantizar la ev
 aluación por parte del Comité Científico.\n\nFechas clave\n\n 	Envío d
 e abstracts: hasta el 10 de enero de 2026\n 	Notificación de trabajos ace
 ptados: 16 de enero de 2026\n 	Envío del trabajo definitivo: antes del 25
  de enero de 2026\n
CATEGORIES:Jornadas y Congresos
END:VEVENT
BEGIN:VTIMEZONE
TZID:Europe/Madrid
X-LIC-LOCATION:Europe/Madrid
BEGIN:STANDARD
DTSTART:20251026T020000
TZOFFSETFROM:+0200
TZOFFSETTO:+0100
TZNAME:CET
END:STANDARD
END:VTIMEZONE
END:VCALENDAR