BEGIN:VCALENDAR
VERSION:2.0
PRODID:-//wp-events-plugin.com//6.6.4.4//EN
TZID:Europe/Madrid
X-WR-TIMEZONE:Europe/Madrid
BEGIN:VEVENT
UID:10@colegioenfermerialeon.com
DTSTART;TZID=Europe/Madrid;VALUE=DATE:20251118
DTEND;TZID=Europe/Madrid;VALUE=DATE:20251119
DTSTAMP:20251127T093507Z
URL:https://colegioenfermerialeon.com/events/dia-paciente-anticoagulado-en
 fermeria/
SUMMARY:Día Nacional del Paciente Anticoagulado
DESCRIPTION:Una jornada dedicada a destacar la importancia del control y la
  educación en pacientes anticoagulados. La enfermería participa en la pr
 evención de riesgos y la correcta gestión del tratamiento.
CATEGORIES:Días Nacionales
END:VEVENT
BEGIN:VTIMEZONE
TZID:Europe/Madrid
X-LIC-LOCATION:Europe/Madrid
BEGIN:STANDARD
DTSTART:20251026T020000
TZOFFSETFROM:+0200
TZOFFSETTO:+0100
TZNAME:CET
END:STANDARD
END:VTIMEZONE
END:VCALENDAR