BEGIN:VCALENDAR
VERSION:2.0
PRODID:-//wp-events-plugin.com//6.6.4.4//EN
TZID:Europe/Madrid
X-WR-TIMEZONE:Europe/Madrid
BEGIN:VEVENT
UID:8@colegioenfermerialeon.com
DTSTART;TZID=Europe/Madrid;VALUE=DATE:20251117
DTEND;TZID=Europe/Madrid;VALUE=DATE:20251118
DTSTAMP:20251127T093329Z
URL:https://colegioenfermerialeon.com/events/dia-nino-prematuro-enfermeria
 /
SUMMARY:Día Mundial del Niño Prematuro
DESCRIPTION:Una jornada para concienciar sobre los cuidados especiales que 
 requieren los bebés prematuros. La enfermería neonatal es fundamental en
  la evolución del recién nacido y en el acompañamiento a las familias.
  
CATEGORIES:Días Internacionales
END:VEVENT
BEGIN:VTIMEZONE
TZID:Europe/Madrid
X-LIC-LOCATION:Europe/Madrid
BEGIN:STANDARD
DTSTART:20251026T020000
TZOFFSETFROM:+0200
TZOFFSETTO:+0100
TZNAME:CET
END:STANDARD
END:VTIMEZONE
END:VCALENDAR