BEGIN:VCALENDAR
VERSION:2.0
PRODID:-//wp-events-plugin.com//6.6.4.4//EN
TZID:Europe/Madrid
X-WR-TIMEZONE:Europe/Madrid
BEGIN:VEVENT
UID:19@colegioenfermerialeon.com
DTSTART;TZID=Europe/Madrid;VALUE=DATE:20251221
DTEND;TZID=Europe/Madrid;VALUE=DATE:20251222
DTSTAMP:20251127T092820Z
URL:https://colegioenfermerialeon.com/events/dia-nino-cancer-enfermeria/
SUMMARY:Día Nacional del Niño con Cáncer
DESCRIPTION:Una fecha dedicada a concienciar sobre el cáncer infantil y lo
 s cuidados especializados que requiere. La enfermería pediátrica desempe
 ña un papel decisivo en el acompañamiento emocional\, el control de sín
 tomas y el apoyo a las familias durante el tratamiento.
CATEGORIES:Días Nacionales
END:VEVENT
BEGIN:VTIMEZONE
TZID:Europe/Madrid
X-LIC-LOCATION:Europe/Madrid
BEGIN:STANDARD
DTSTART:20251026T020000
TZOFFSETFROM:+0200
TZOFFSETTO:+0100
TZNAME:CET
END:STANDARD
END:VTIMEZONE
END:VCALENDAR