BEGIN:VCALENDAR
VERSION:2.0
PRODID:-//wp-events-plugin.com//6.6.4.4//EN
TZID:Europe/Madrid
X-WR-TIMEZONE:Europe/Madrid
BEGIN:VEVENT
UID:14@colegioenfermerialeon.com
DTSTART;TZID=Europe/Madrid;VALUE=DATE:20251201
DTEND;TZID=Europe/Madrid;VALUE=DATE:20251202
DTSTAMP:20251127T092356Z
URL:https://colegioenfermerialeon.com/events/dia-mundial-sida-enfermeria/
SUMMARY:Día Mundial del Sida
DESCRIPTION:Este día recuerda la importancia de la prevención\, el diagn
 óstico precoz y la lucha contra el estigma del VIH. La enfermería juega 
 un papel fundamental en la educación sanitaria\, el acompañamiento emoci
 onal y el seguimiento terapéutico de las personas con VIH.
CATEGORIES:Días Internacionales
END:VEVENT
BEGIN:VTIMEZONE
TZID:Europe/Madrid
X-LIC-LOCATION:Europe/Madrid
BEGIN:STANDARD
DTSTART:20251026T020000
TZOFFSETFROM:+0200
TZOFFSETTO:+0100
TZNAME:CET
END:STANDARD
END:VTIMEZONE
END:VCALENDAR