BEGIN:VCALENDAR
VERSION:2.0
PRODID:-//wp-events-plugin.com//6.6.4.4//EN
TZID:Europe/Madrid
X-WR-TIMEZONE:Europe/Madrid
BEGIN:VEVENT
UID:5@colegioenfermerialeon.com
DTSTART;TZID=Europe/Madrid;VALUE=DATE:20251112
DTEND;TZID=Europe/Madrid;VALUE=DATE:20251113
DTSTAMP:20251127T093017Z
URL:https://colegioenfermerialeon.com/events/dia-mundial-neumonia-enfermer
 ia/
SUMMARY:Día Mundial contra la Neumonía
DESCRIPTION:Este día busca sensibilizar sobre la neumonía y su impacto gl
 obal. La enfermería es clave en la prevención\, educación sanitaria y d
 etección temprana\, especialmente en personas vulnerables. 
CATEGORIES:Días Internacionales
END:VEVENT
BEGIN:VTIMEZONE
TZID:Europe/Madrid
X-LIC-LOCATION:Europe/Madrid
BEGIN:STANDARD
DTSTART:20251026T020000
TZOFFSETFROM:+0200
TZOFFSETTO:+0100
TZNAME:CET
END:STANDARD
END:VTIMEZONE
END:VCALENDAR