BEGIN:VCALENDAR
VERSION:2.0
PRODID:-//wp-events-plugin.com//6.6.4.4//EN
TZID:Europe/Madrid
X-WR-TIMEZONE:Europe/Madrid
BEGIN:VEVENT
UID:12@colegioenfermerialeon.com
DTSTART;TZID=Europe/Madrid;VALUE=DATE:20251120
DTEND;TZID=Europe/Madrid;VALUE=DATE:20251121
DTSTAMP:20251127T093819Z
URL:https://colegioenfermerialeon.com/events/dia-mundial-infancia-enfermer
 ia/
SUMMARY:Día Mundial de la Infancia
DESCRIPTION:Una jornada para proteger el bienestar de los niños. La enferm
 ería pediátrica promueve la prevención\, la salud escolar y la educaci
 ón familiar desde la primera infancia. 
CATEGORIES:Días Internacionales
END:VEVENT
BEGIN:VTIMEZONE
TZID:Europe/Madrid
X-LIC-LOCATION:Europe/Madrid
BEGIN:STANDARD
DTSTART:20251026T020000
TZOFFSETFROM:+0200
TZOFFSETTO:+0100
TZNAME:CET
END:STANDARD
END:VTIMEZONE
END:VCALENDAR