BEGIN:VCALENDAR
VERSION:2.0
PRODID:-//wp-events-plugin.com//6.6.4.4//EN
TZID:Europe/Madrid
X-WR-TIMEZONE:Europe/Madrid
BEGIN:VEVENT
UID:11@colegioenfermerialeon.com
DTSTART;TZID=Europe/Madrid;VALUE=DATE:20251119
DTEND;TZID=Europe/Madrid;VALUE=DATE:20251120
DTSTAMP:20251127T093626Z
URL:https://colegioenfermerialeon.com/events/dia-mundial-epoc-enfermeria/
SUMMARY:Día Mundial de la EPOC
DESCRIPTION:La EPOC afecta a millones de personas en el mundo. La enfermer
 ía impulsa educación sobre hábitos saludables\, prevención de exacerba
 ciones y correcto uso de inhaladores. 
CATEGORIES:Días Internacionales
END:VEVENT
BEGIN:VTIMEZONE
TZID:Europe/Madrid
X-LIC-LOCATION:Europe/Madrid
BEGIN:STANDARD
DTSTART:20251026T020000
TZOFFSETFROM:+0200
TZOFFSETTO:+0100
TZNAME:CET
END:STANDARD
END:VTIMEZONE
END:VCALENDAR