BEGIN:VCALENDAR
VERSION:2.0
PRODID:-//wp-events-plugin.com//6.6.4.4//EN
TZID:Europe/Madrid
X-WR-TIMEZONE:Europe/Madrid
BEGIN:VEVENT
UID:6@colegioenfermerialeon.com
DTSTART;TZID=Europe/Madrid;VALUE=DATE:20251114
DTEND;TZID=Europe/Madrid;VALUE=DATE:20251115
DTSTAMP:20251127T093048Z
URL:https://colegioenfermerialeon.com/events/dia-mundial-diabetes-enfermer
 ia/
SUMMARY:Día Mundial de la Diabetes
DESCRIPTION:La diabetes requiere educación continua y apoyo constante. La 
 enfermería acompaña a los pacientes en el control glucémico\, la preven
 ción de complicaciones y la mejora del autocuidado. 
CATEGORIES:Días Internacionales
END:VEVENT
BEGIN:VTIMEZONE
TZID:Europe/Madrid
X-LIC-LOCATION:Europe/Madrid
BEGIN:STANDARD
DTSTART:20251026T020000
TZOFFSETFROM:+0200
TZOFFSETTO:+0100
TZNAME:CET
END:STANDARD
END:VTIMEZONE
END:VCALENDAR