BEGIN:VCALENDAR
VERSION:2.0
PRODID:-//wp-events-plugin.com//6.6.4.4//EN
TZID:Europe/Madrid
X-WR-TIMEZONE:Europe/Madrid
BEGIN:VEVENT
UID:3@colegioenfermerialeon.com
DTSTART;TZID=Europe/Madrid;VALUE=DATE:20251125
DTEND;TZID=Europe/Madrid;VALUE=DATE:20251126
DTSTAMP:20251127T093901Z
URL:https://colegioenfermerialeon.com/events/dia-internacional-para-la-eli
 minacion-de-la-violencia-contra-la-mujer/
SUMMARY:Día Internacional para la Eliminación de la Violencia contra la M
 ujer
DESCRIPTION:CALENDARIO DE DÍAS RELEVANTES PARA LA ENFERMERÍA\n\nEste día
  denuncia la violencia contra mujeres y niñas. La enfermería interviene 
 en la detección precoz\, la atención sanitaria y el acompañamiento segu
 ro a las víctimas.
CATEGORIES:Días Internacionales
END:VEVENT
BEGIN:VTIMEZONE
TZID:Europe/Madrid
X-LIC-LOCATION:Europe/Madrid
BEGIN:STANDARD
DTSTART:20251026T020000
TZOFFSETFROM:+0200
TZOFFSETTO:+0100
TZNAME:CET
END:STANDARD
END:VTIMEZONE
END:VCALENDAR