BEGIN:VCALENDAR
VERSION:2.0
PRODID:-//wp-events-plugin.com//6.6.4.4//EN
TZID:Europe/Madrid
X-WR-TIMEZONE:Europe/Madrid
BEGIN:VEVENT
UID:7@colegioenfermerialeon.com
DTSTART;TZID=Europe/Madrid;VALUE=DATE:20251115
DTEND;TZID=Europe/Madrid;VALUE=DATE:20251116
DTSTAMP:20251127T093133Z
URL:https://colegioenfermerialeon.com/events/dia-enfermedades-neuromuscula
 res-enfermeria/
SUMMARY:Día Nacional de Enfermedades Neuromusculares
DESCRIPTION:Este día visibiliza patologías que afectan la movilidad y la 
 autonomía. La enfermería ofrece cuidados integrales\, apoyo emocional y 
 educación a familias y pacientes.
CATEGORIES:Días Nacionales
END:VEVENT
BEGIN:VTIMEZONE
TZID:Europe/Madrid
X-LIC-LOCATION:Europe/Madrid
BEGIN:STANDARD
DTSTART:20251026T020000
TZOFFSETFROM:+0200
TZOFFSETTO:+0100
TZNAME:CET
END:STANDARD
END:VTIMEZONE
END:VCALENDAR