BEGIN:VCALENDAR
VERSION:2.0
PRODID:-//wp-events-plugin.com//6.6.4.4//EN
TZID:Europe/Madrid
X-WR-TIMEZONE:Europe/Madrid
BEGIN:VEVENT
UID:15@colegioenfermerialeon.com
DTSTART;TZID=Europe/Madrid;VALUE=DATE:20251203
DTEND;TZID=Europe/Madrid;VALUE=DATE:20251204
DTSTAMP:20251127T092504Z
URL:https://colegioenfermerialeon.com/events/dia-discapacidad-enfermeria/
SUMMARY:Día Internacional de las Personas con Discapacidad
DESCRIPTION:Una jornada dedicada a visibilizar los derechos y necesidades d
 e las personas con discapacidad. La enfermería trabaja por una atención 
 accesible\, inclusiva y centrada en la autonomía y bienestar de cada paci
 ente. 
CATEGORIES:Días Internacionales
END:VEVENT
BEGIN:VTIMEZONE
TZID:Europe/Madrid
X-LIC-LOCATION:Europe/Madrid
BEGIN:STANDARD
DTSTART:20251026T020000
TZOFFSETFROM:+0200
TZOFFSETTO:+0100
TZNAME:CET
END:STANDARD
END:VTIMEZONE
END:VCALENDAR