BEGIN:VCALENDAR
VERSION:2.0
PRODID:-//wp-events-plugin.com//6.6.4.4//EN
TZID:Europe/Madrid
X-WR-TIMEZONE:Europe/Madrid
BEGIN:VEVENT
UID:16@colegioenfermerialeon.com
DTSTART;TZID=Europe/Madrid;VALUE=DATE:20251210
DTEND;TZID=Europe/Madrid;VALUE=DATE:20251211
DTSTAMP:20251127T092532Z
URL:https://colegioenfermerialeon.com/events/dia-derechos-humanos-enfermer
 ia/
SUMMARY:Día de los Derechos Humanos
DESCRIPTION:Este día recuerda que la salud y la dignidad forman parte de l
 os derechos fundamentales. La enfermería promueve el trato respetuoso\, l
 a igualdad en el acceso sanitario y la defensa de los derechos de paciente
 s y familias. 
CATEGORIES:Días Internacionales
END:VEVENT
BEGIN:VTIMEZONE
TZID:Europe/Madrid
X-LIC-LOCATION:Europe/Madrid
BEGIN:STANDARD
DTSTART:20251026T020000
TZOFFSETFROM:+0200
TZOFFSETTO:+0100
TZNAME:CET
END:STANDARD
END:VTIMEZONE
END:VCALENDAR